BEGIN:VCALENDAR
VERSION:2.0
PRODID:-//Ecosistema LA - ECPv6.15.18//NONSGML v1.0//EN
CALSCALE:GREGORIAN
METHOD:PUBLISH
X-ORIGINAL-URL:https://ecosistemala.cl
X-WR-CALDESC:Eventos para Ecosistema LA
REFRESH-INTERVAL;VALUE=DURATION:PT1H
X-Robots-Tag:noindex
X-PUBLISHED-TTL:PT1H
BEGIN:VTIMEZONE
TZID:America/Halifax
BEGIN:DAYLIGHT
TZOFFSETFROM:-0400
TZOFFSETTO:-0300
TZNAME:ADT
DTSTART:20240310T060000
END:DAYLIGHT
BEGIN:STANDARD
TZOFFSETFROM:-0300
TZOFFSETTO:-0400
TZNAME:AST
DTSTART:20241103T050000
END:STANDARD
BEGIN:DAYLIGHT
TZOFFSETFROM:-0400
TZOFFSETTO:-0300
TZNAME:ADT
DTSTART:20250309T060000
END:DAYLIGHT
BEGIN:STANDARD
TZOFFSETFROM:-0300
TZOFFSETTO:-0400
TZNAME:AST
DTSTART:20251102T050000
END:STANDARD
BEGIN:DAYLIGHT
TZOFFSETFROM:-0400
TZOFFSETTO:-0300
TZNAME:ADT
DTSTART:20260308T060000
END:DAYLIGHT
BEGIN:STANDARD
TZOFFSETFROM:-0300
TZOFFSETTO:-0400
TZNAME:AST
DTSTART:20261101T050000
END:STANDARD
END:VTIMEZONE
BEGIN:VTIMEZONE
TZID:UTC
BEGIN:STANDARD
TZOFFSETFROM:+0000
TZOFFSETTO:+0000
TZNAME:UTC
DTSTART:20240101T000000
END:STANDARD
END:VTIMEZONE
BEGIN:VTIMEZONE
TZID:America/Sao_Paulo
BEGIN:STANDARD
TZOFFSETFROM:-0300
TZOFFSETTO:-0300
TZNAME:-03
DTSTART:20240101T000000
END:STANDARD
END:VTIMEZONE
BEGIN:VEVENT
DTSTART;TZID=America/Halifax:20250425T180000
DTEND;TZID=America/Halifax:20250425T220000
DTSTAMP:20260424T123203
CREATED:20250419T061615Z
LAST-MODIFIED:20250420T172047Z
UID:2698-1745604000-1745618400@ecosistemala.cl
SUMMARY:Noche Africana
DESCRIPTION:Conoce un poco más de África y qué oportunidades hay para el turismo del biobio y Tanzania\, junto con eso podrás colaborar con la ONG de Loreto Rocha\, quien es una angelina que vive en Tanzania.
URL:https://ecosistemala.cl/evento/noche-africana/
LOCATION:Biosur\, Camino María Dolores Km 6.9\, Los Ángeles\, Biobío\, 4440000\, Chile
CATEGORIES:Otro
ATTACH;FMTTYPE=image/jpeg:https://ecosistemala.cl/wp-content/uploads/2025/04/ee8cb914-07ca-4f14-943d-8e532972d623-1.jpeg
END:VEVENT
BEGIN:VEVENT
DTSTART;TZID=UTC:20250328T193000
DTEND;TZID=UTC:20250328T223000
DTSTAMP:20260424T123203
CREATED:20250328T055135Z
LAST-MODIFIED:20250420T164156Z
UID:1090-1743190200-1743201000@ecosistemala.cl
SUMMARY:5º Noche de Networking By Ecosistema LA
DESCRIPTION:🚀 ¡Emprendedores\, profesionales y empresarios! 🌟\nÚnanse a la 5° Noche de Networking organizada por Ecosistema L.A.\, un espacio único para conectar\, aprender y crecer juntos. \n📅 Cuándo: 28 de marzo de 2025\n🕢 Hora: 19:30 hrs\n📍 Dónde: Biosur\, Camino María Dolores Km 6.9\, Los Ángeles \n🎤 ¿Qué te espera? \nEspacios de conexión para crear alianzas estratégicas\nCharlas motivacionales que inspiran\nApoyo y herramientas para emprendedores\nPresentaciones de proyectos en nuestro Pitch Emprendedor\nConoce más sobre nuestra Huella Emprendedora\n¡Y música en vivo para cerrar la noche! 🎶\n🙌 Sé parte de esta experiencia que impulsa el emprendimiento y la innovación en la provincia de Biobío.\n📲 Inscríbete ahora en ecosistemala.cl/nochesnetworking \n🌐 Más información en ecosistemala.cl/nochesnetworking \n¡No faltes\, estamos creando el futuro juntos! 💡✨
URL:https://ecosistemala.cl/evento/5o-noche-de-networking-by-ecosistema-la/
LOCATION:Biosur\, Camino María Dolores Km 6.9\, Los Ángeles\, Biobío\, 4440000\, Chile
CATEGORIES:Networking
ATTACH;FMTTYPE=image/jpeg:https://ecosistemala.cl/wp-content/uploads/2025/04/ECOLA-scaled.jpg
ORGANIZER;CN="Ecosistema LA":MAILTO:contacto@ecosistemala.cl
END:VEVENT
BEGIN:VEVENT
DTSTART;TZID=America/Sao_Paulo:20250117T193000
DTEND;TZID=America/Sao_Paulo:20250117T230000
DTSTAMP:20260424T123203
CREATED:20250110T215326Z
LAST-MODIFIED:20250420T164255Z
UID:605-1737142200-1737154800@ecosistemala.cl
SUMMARY:4º Noche de Networking By Ecosistema LA
DESCRIPTION:🚀 ¡Emprendedores\, profesionales y empresarios! 🌟\nÚnanse a la 4° Noche de Networking organizada por Ecosistema L.A.\, un espacio único para conectar\, aprender y crecer juntos. \n📅 Cuándo: 17 de enero de 2025\n🕢 Hora: 19:30 hrs\n📍 Dónde: Espacio Recreactivate\, Camino El Peral Km 3\, Los Ángeles \n🎤 ¿Qué te espera? \nEspacios de conexión para crear alianzas estratégicas\nCharlas motivacionales que inspiran\nApoyo y herramientas para emprendedores\nPresentaciones de proyectos en nuestro Pitch Emprendedor\nConoce más sobre nuestra Huella Emprendedora\n¡Y música en vivo para cerrar la noche! 🎶\n🙌 Sé parte de esta experiencia que impulsa el emprendimiento y la innovación en la provincia de Biobío.\n📲 Inscríbete ahora en ecosistemala.cl/nochesnetworking \n🌐 Más información en ecosistemala.cl/nochesnetworking \n¡No faltes\, estamos creando el futuro juntos! 💡✨
URL:https://ecosistemala.cl/evento/4o-noche-de-networking-by-ecosistema-la/
LOCATION:Recreactivate Outdoor\, Camino el Peral Km 3\, Los Ángeles\, Biobío\, 4440000\, Chile
CATEGORIES:Networking
ATTACH;FMTTYPE=image/jpeg:https://ecosistemala.cl/wp-content/uploads/2024/11/Imagen-de-WhatsApp-2024-11-15-a-las-02.36.55_b6012382.jpg
ORGANIZER;CN="Ecosistema LA":MAILTO:contacto@ecosistemala.cl
END:VEVENT
END:VCALENDAR